Package: gespeR Version: 1.31.0 Command: rm -rf gespeR.buildbin-libdir && mkdir gespeR.buildbin-libdir && /Users/biocbuild/BBS/utils/build-universal.sh gespeR_1.31.0.tar.gz /Library/Frameworks/R.framework/Resources/bin/R gespeR.buildbin-libdir StartedAt: 2023-03-16 09:15:04 -0400 (Thu, 16 Mar 2023) EndedAt: 2023-03-16 09:16:51 -0400 (Thu, 16 Mar 2023) EllapsedTime: 106.3 seconds RetCode: 0 Status: OK PackageFile: gespeR_1.31.0.tgz PackageFileSize: 2.824 MiB