Package: genomation Version: 1.32.0 Command: F:\biocbuild\bbs-3.17-bioc\R\bin\R.exe CMD INSTALL genomation StartedAt: 2023-10-15 16:12:17 -0400 (Sun, 15 Oct 2023) EndedAt: 2023-10-15 16:13:28 -0400 (Sun, 15 Oct 2023) EllapsedTime: 70.8 seconds RetCode: 0 Status: OK