Package: genomation Version: 1.32.0 Command: /home/biocbuild/bbs-3.17-bioc/R/bin/R CMD build --keep-empty-dirs --no-resave-data genomation StartedAt: 2023-10-15 16:54:15 -0400 (Sun, 15 Oct 2023) EndedAt: 2023-10-15 16:55:27 -0400 (Sun, 15 Oct 2023) EllapsedTime: 72.0 seconds RetCode: 0 Status: OK PackageFile: genomation_1.32.0.tar.gz PackageFileSize: 6.002 MiB