Package: gcatest Version: 2.0.7 Command: F:\biocbuild\bbs-3.17-bioc\R\bin\R.exe CMD INSTALL gcatest StartedAt: 2023-10-15 15:51:35 -0400 (Sun, 15 Oct 2023) EndedAt: 2023-10-15 15:51:50 -0400 (Sun, 15 Oct 2023) EllapsedTime: 14.6 seconds RetCode: 0 Status: OK