Package: gcatest Version: 2.0.7 Command: chmod a+r gcatest -R && F:\biocbuild\bbs-3.17-bioc\R\bin\R.exe CMD build --keep-empty-dirs --no-resave-data gcatest StartedAt: 2023-10-15 19:23:36 -0400 (Sun, 15 Oct 2023) EndedAt: 2023-10-15 19:24:13 -0400 (Sun, 15 Oct 2023) EllapsedTime: 38.0 seconds RetCode: 0 Status: OK PackageFile: gcatest_2.0.7.tar.gz PackageFileSize: 2.147 MiB