Package: gcatest Version: 2.0.7 Command: rm -rf gcatest.buildbin-libdir && mkdir gcatest.buildbin-libdir && F:\biocbuild\bbs-3.17-bioc\R\bin\R.exe CMD INSTALL --build --library=gcatest.buildbin-libdir gcatest_2.0.7.tar.gz StartedAt: 2023-10-16 08:49:55 -0400 (Mon, 16 Oct 2023) EndedAt: 2023-10-16 08:50:03 -0400 (Mon, 16 Oct 2023) EllapsedTime: 7.9 seconds RetCode: 0 Status: OK PackageFile: gcatest_2.0.7.zip PackageFileSize: 3.354 MiB