Package: gcatest Version: 2.0.7 Command: /home/biocbuild/bbs-3.17-bioc/R/bin/R CMD INSTALL gcatest StartedAt: 2023-10-15 15:09:19 -0400 (Sun, 15 Oct 2023) EndedAt: 2023-10-15 15:09:38 -0400 (Sun, 15 Oct 2023) EllapsedTime: 18.5 seconds RetCode: 0 Status: OK