Package: gcatest Version: 2.0.7 Command: /Library/Frameworks/R.framework/Resources/bin/R CMD INSTALL gcatest StartedAt: 2023-10-15 15:07:10 -0400 (Sun, 15 Oct 2023) EndedAt: 2023-10-15 15:07:39 -0400 (Sun, 15 Oct 2023) EllapsedTime: 29.2 seconds RetCode: 0 Status: OK