Package: gcatest Version: 2.0.7 Command: rm -rf gcatest.buildbin-libdir && mkdir gcatest.buildbin-libdir && /Users/biocbuild/BBS/utils/build-universal.sh gcatest_2.0.7.tar.gz /Library/Frameworks/R.framework/Resources/bin/R gcatest.buildbin-libdir StartedAt: 2023-10-16 09:26:18 -0400 (Mon, 16 Oct 2023) EndedAt: 2023-10-16 09:26:32 -0400 (Mon, 16 Oct 2023) EllapsedTime: 13.8 seconds RetCode: 0 Status: OK PackageFile: gcatest_2.0.7.tgz PackageFileSize: 3.356 MiB