Package: gcapc Version: 1.24.0 Command: /Library/Frameworks/R.framework/Resources/bin/R CMD INSTALL gcapc StartedAt: 2023-10-15 15:33:46 -0400 (Sun, 15 Oct 2023) EndedAt: 2023-10-15 15:35:22 -0400 (Sun, 15 Oct 2023) EllapsedTime: 96.5 seconds RetCode: 0 Status: OK