Package: gcapc Version: 1.24.0 Command: /Library/Frameworks/R.framework/Resources/bin/R CMD build --keep-empty-dirs --no-resave-data gcapc StartedAt: 2023-10-15 18:26:42 -0400 (Sun, 15 Oct 2023) EndedAt: 2023-10-15 18:34:53 -0400 (Sun, 15 Oct 2023) EllapsedTime: 491.2 seconds RetCode: 0 Status: OK PackageFile: gcapc_1.24.0.tar.gz PackageFileSize: 3.773 MiB