Package: gage Version: 2.50.0 Command: /home/biocbuild/bbs-3.17-bioc/R/bin/R CMD build --keep-empty-dirs --no-resave-data gage StartedAt: 2023-10-15 16:51:49 -0400 (Sun, 15 Oct 2023) EndedAt: 2023-10-15 16:54:04 -0400 (Sun, 15 Oct 2023) EllapsedTime: 135.0 seconds RetCode: 0 Status: OK PackageFile: gage_2.50.0.tar.gz PackageFileSize: 4.134 MiB