Package: gage Version: 2.50.0 Command: /Library/Frameworks/R.framework/Resources/bin/R CMD INSTALL gage StartedAt: 2023-10-15 15:23:21 -0400 (Sun, 15 Oct 2023) EndedAt: 2023-10-15 15:24:15 -0400 (Sun, 15 Oct 2023) EllapsedTime: 54.4 seconds RetCode: 0 Status: OK