Package: gage Version: 2.50.0 Command: /Library/Frameworks/R.framework/Resources/bin/R CMD check --install=check:gage.install-out.txt --library=/Library/Frameworks/R.framework/Resources/library --no-vignettes --timings gage_2.50.0.tar.gz StartedAt: 2023-10-16 01:51:55 -0400 (Mon, 16 Oct 2023) EndedAt: 2023-10-16 01:56:54 -0400 (Mon, 16 Oct 2023) EllapsedTime: 299.2 seconds RetCode: 1 Status: ERROR CheckDir: gage.Rcheck Warnings: NA