Package: gage Version: 2.50.0 Command: rm -rf gage.buildbin-libdir && mkdir gage.buildbin-libdir && /Users/biocbuild/BBS/utils/build-universal.sh gage_2.50.0.tar.gz /Library/Frameworks/R.framework/Resources/bin/R gage.buildbin-libdir StartedAt: 2023-10-16 09:26:02 -0400 (Mon, 16 Oct 2023) EndedAt: 2023-10-16 09:26:50 -0400 (Mon, 16 Oct 2023) EllapsedTime: 48.3 seconds RetCode: 0 Status: OK PackageFile: gage_2.50.0.tgz PackageFileSize: 4.295 MiB