Package: gaga Version: 2.46.0 Command: chmod a+r gaga -R && F:\biocbuild\bbs-3.17-bioc\R\bin\R.exe CMD build --keep-empty-dirs --no-resave-data gaga StartedAt: 2023-10-15 19:22:32 -0400 (Sun, 15 Oct 2023) EndedAt: 2023-10-15 19:23:04 -0400 (Sun, 15 Oct 2023) EllapsedTime: 32.0 seconds RetCode: 0 Status: OK PackageFile: gaga_2.46.0.tar.gz PackageFileSize: 433.9 KiB