Package: gCrisprTools Version: 2.6.0 Command: rm -rf gCrisprTools.buildbin-libdir && mkdir gCrisprTools.buildbin-libdir && /Users/biocbuild/BBS/utils/build-universal.sh gCrisprTools_2.6.0.tar.gz /Library/Frameworks/R.framework/Resources/bin/R gCrisprTools.buildbin-libdir StartedAt: 2023-10-16 09:26:19 -0400 (Mon, 16 Oct 2023) EndedAt: 2023-10-16 09:27:48 -0400 (Mon, 16 Oct 2023) EllapsedTime: 88.9 seconds RetCode: 0 Status: OK PackageFile: gCrisprTools_2.6.0.tgz PackageFileSize: 4.506 MiB