Package: fmrs Version: 1.10.0 Command: /home/biocbuild/bbs-3.17-bioc/R/bin/R CMD check --install=check:fmrs.install-out.txt --library=/home/biocbuild/bbs-3.17-bioc/R/site-library --timings fmrs_1.10.0.tar.gz StartedAt: 2023-10-15 21:25:32 -0400 (Sun, 15 Oct 2023) EndedAt: 2023-10-15 21:26:17 -0400 (Sun, 15 Oct 2023) EllapsedTime: 45.2 seconds RetCode: 0 Status: OK CheckDir: fmrs.Rcheck Warnings: 0