Package: fmcsR Version: 1.42.0 Command: F:\biocbuild\bbs-3.17-bioc\R\bin\R.exe CMD INSTALL fmcsR StartedAt: 2023-10-15 16:53:52 -0400 (Sun, 15 Oct 2023) EndedAt: 2023-10-15 16:54:14 -0400 (Sun, 15 Oct 2023) EllapsedTime: 22.1 seconds RetCode: 0 Status: OK