Package: fmcsR Version: 1.42.0 Command: chmod a+r fmcsR -R && F:\biocbuild\bbs-3.17-bioc\R\bin\R.exe CMD build --keep-empty-dirs --no-resave-data fmcsR StartedAt: 2023-10-15 19:20:37 -0400 (Sun, 15 Oct 2023) EndedAt: 2023-10-15 19:21:28 -0400 (Sun, 15 Oct 2023) EllapsedTime: 50.3 seconds RetCode: 0 Status: OK PackageFile: fmcsR_1.42.0.tar.gz PackageFileSize: 467.8 KiB