Package: fmcsR Version: 1.42.0 Command: rm -rf fmcsR.buildbin-libdir && mkdir fmcsR.buildbin-libdir && F:\biocbuild\bbs-3.17-bioc\R\bin\R.exe CMD INSTALL --build --library=fmcsR.buildbin-libdir fmcsR_1.42.0.tar.gz StartedAt: 2023-10-16 08:49:12 -0400 (Mon, 16 Oct 2023) EndedAt: 2023-10-16 08:49:37 -0400 (Mon, 16 Oct 2023) EllapsedTime: 24.8 seconds RetCode: 0 Status: OK PackageFile: fmcsR_1.42.0.zip PackageFileSize: 961.5 KiB