Package: fmcsR Version: 1.42.0 Command: /home/biocbuild/bbs-3.17-bioc/R/bin/R CMD build --keep-empty-dirs --no-resave-data fmcsR StartedAt: 2023-10-15 16:50:41 -0400 (Sun, 15 Oct 2023) EndedAt: 2023-10-15 16:51:21 -0400 (Sun, 15 Oct 2023) EllapsedTime: 40.7 seconds RetCode: 0 Status: OK PackageFile: fmcsR_1.42.0.tar.gz PackageFileSize: 761.9 KiB