Package: fmcsR Version: 1.42.0 Command: /Library/Frameworks/R.framework/Resources/bin/R CMD INSTALL fmcsR StartedAt: 2023-10-15 16:18:24 -0400 (Sun, 15 Oct 2023) EndedAt: 2023-10-15 16:19:29 -0400 (Sun, 15 Oct 2023) EllapsedTime: 65.0 seconds RetCode: 0 Status: OK