Package: fmcsR Version: 1.42.0 Command: /Library/Frameworks/R.framework/Resources/bin/R CMD build --keep-empty-dirs --no-resave-data fmcsR StartedAt: 2023-10-15 18:24:18 -0400 (Sun, 15 Oct 2023) EndedAt: 2023-10-15 18:26:09 -0400 (Sun, 15 Oct 2023) EllapsedTime: 111.2 seconds RetCode: 0 Status: OK PackageFile: fmcsR_1.42.0.tar.gz PackageFileSize: 774.1 KiB