Package: fmcsR Version: 1.42.0 Command: rm -rf fmcsR.buildbin-libdir && mkdir fmcsR.buildbin-libdir && /Users/biocbuild/BBS/utils/build-universal.sh fmcsR_1.42.0.tar.gz /Library/Frameworks/R.framework/Resources/bin/R fmcsR.buildbin-libdir StartedAt: 2023-10-16 09:25:43 -0400 (Mon, 16 Oct 2023) EndedAt: 2023-10-16 09:27:02 -0400 (Mon, 16 Oct 2023) EllapsedTime: 79.4 seconds RetCode: 0 Status: OK PackageFile: fmcsR_1.42.0.tgz PackageFileSize: 925.8 KiB