Package: flowViz Version: 1.64.0 Command: /home/biocbuild/bbs-3.17-bioc/R/bin/R CMD build --keep-empty-dirs --no-resave-data flowViz StartedAt: 2023-10-15 16:50:28 -0400 (Sun, 15 Oct 2023) EndedAt: 2023-10-15 16:51:41 -0400 (Sun, 15 Oct 2023) EllapsedTime: 73.2 seconds RetCode: 0 Status: OK PackageFile: flowViz_1.64.0.tar.gz PackageFileSize: 937 KiB