Package: flowTime Version: 1.24.0 Command: rm -rf flowTime.buildbin-libdir && mkdir flowTime.buildbin-libdir && F:\biocbuild\bbs-3.17-bioc\R\bin\R.exe CMD INSTALL --build --library=flowTime.buildbin-libdir flowTime_1.24.0.tar.gz StartedAt: 2023-10-16 08:49:04 -0400 (Mon, 16 Oct 2023) EndedAt: 2023-10-16 08:49:21 -0400 (Mon, 16 Oct 2023) EllapsedTime: 17.4 seconds RetCode: 0 Status: OK PackageFile: flowTime_1.24.0.zip PackageFileSize: 2.3 MiB