Package: flowTime Version: 1.24.0 Command: /Library/Frameworks/R.framework/Resources/bin/R CMD build --keep-empty-dirs --no-resave-data flowTime StartedAt: 2023-10-15 18:23:36 -0400 (Sun, 15 Oct 2023) EndedAt: 2023-10-15 18:25:05 -0400 (Sun, 15 Oct 2023) EllapsedTime: 89.0 seconds RetCode: 0 Status: OK PackageFile: flowTime_1.24.0.tar.gz PackageFileSize: 2.375 MiB