Package: flowPeaks Version: 1.46.0 Command: rm -rf flowPeaks.buildbin-libdir && mkdir flowPeaks.buildbin-libdir && /Users/biocbuild/BBS/utils/build-universal.sh flowPeaks_1.46.0.tar.gz /Library/Frameworks/R.framework/Resources/bin/R flowPeaks.buildbin-libdir StartedAt: 2023-10-16 09:25:04 -0400 (Mon, 16 Oct 2023) EndedAt: 2023-10-16 09:25:55 -0400 (Mon, 16 Oct 2023) EllapsedTime: 51.4 seconds RetCode: 0 Status: OK PackageFile: flowPeaks_1.46.0.tgz PackageFileSize: 3.019 MiB