Package: flowGate Version: 1.0.0 Command: /Library/Frameworks/R.framework/Resources/bin/R CMD check --install=check:flowGate.install-out.txt --library=/Library/Frameworks/R.framework/Resources/library --no-vignettes --timings flowGate_1.0.0.tar.gz StartedAt: 2023-10-16 01:46:42 -0400 (Mon, 16 Oct 2023) EndedAt: 2023-10-16 01:50:26 -0400 (Mon, 16 Oct 2023) EllapsedTime: 223.7 seconds RetCode: 0 Status: OK CheckDir: flowGate.Rcheck Warnings: 0