Package: flowClean Version: 1.38.0 Command: rm -rf flowClean.buildbin-libdir && mkdir flowClean.buildbin-libdir && F:\biocbuild\bbs-3.17-bioc\R\bin\R.exe CMD INSTALL --build --library=flowClean.buildbin-libdir flowClean_1.38.0.tar.gz StartedAt: 2023-10-16 08:48:24 -0400 (Mon, 16 Oct 2023) EndedAt: 2023-10-16 08:48:43 -0400 (Mon, 16 Oct 2023) EllapsedTime: 19.2 seconds RetCode: 0 Status: OK PackageFile: flowClean_1.38.0.zip PackageFileSize: 4.629 MiB