Package: flowBin Version: 1.36.0 Command: /Library/Frameworks/R.framework/Resources/bin/R CMD check --install=check:flowBin.install-out.txt --library=/Library/Frameworks/R.framework/Resources/library --no-vignettes --timings flowBin_1.36.0.tar.gz StartedAt: 2023-10-16 01:43:37 -0400 (Mon, 16 Oct 2023) EndedAt: 2023-10-16 01:47:19 -0400 (Mon, 16 Oct 2023) EllapsedTime: 221.7 seconds RetCode: 0 Status: OK CheckDir: flowBin.Rcheck Warnings: 0