Package: flowBin Version: 1.36.0 Command: /Library/Frameworks/R.framework/Resources/bin/R CMD build --keep-empty-dirs --no-resave-data flowBin StartedAt: 2023-10-15 18:21:05 -0400 (Sun, 15 Oct 2023) EndedAt: 2023-10-15 18:22:14 -0400 (Sun, 15 Oct 2023) EllapsedTime: 68.3 seconds RetCode: 0 Status: OK PackageFile: flowBin_1.36.0.tar.gz PackageFileSize: 575.4 KiB