Package: fcoex Version: 1.14.0 Command: chmod a+r fcoex -R && F:\biocbuild\bbs-3.17-bioc\R\bin\R.exe CMD build --keep-empty-dirs --no-resave-data fcoex StartedAt: 2023-10-15 19:11:48 -0400 (Sun, 15 Oct 2023) EndedAt: 2023-10-15 19:13:11 -0400 (Sun, 15 Oct 2023) EllapsedTime: 82.5 seconds RetCode: 1 Status: ERROR PackageFile: None PackageFileSize: NA