Package: fcoex Version: 1.13.0 Command: rm -rf fcoex.buildbin-libdir && mkdir fcoex.buildbin-libdir && /Users/biocbuild/BBS/utils/build-universal.sh fcoex_1.13.0.tar.gz /Library/Frameworks/R.framework/Resources/bin/R fcoex.buildbin-libdir StartedAt: 2023-03-16 09:10:09 -0400 (Thu, 16 Mar 2023) EndedAt: 2023-03-16 09:12:50 -0400 (Thu, 16 Mar 2023) EllapsedTime: 161.3 seconds RetCode: 0 Status: OK PackageFile: fcoex_1.13.0.tgz PackageFileSize: 3.177 MiB