Package: fcScan Version: 1.14.0 Command: rm -rf fcScan.buildbin-libdir && mkdir fcScan.buildbin-libdir && /Users/biocbuild/BBS/utils/build-universal.sh fcScan_1.14.0.tar.gz /Library/Frameworks/R.framework/Resources/bin/R fcScan.buildbin-libdir StartedAt: 2023-10-16 09:23:48 -0400 (Mon, 16 Oct 2023) EndedAt: 2023-10-16 09:26:02 -0400 (Mon, 16 Oct 2023) EllapsedTime: 133.9 seconds RetCode: 0 Status: OK PackageFile: fcScan_1.14.0.tgz PackageFileSize: 272.2 KiB