Package: factDesign Version: 1.76.0 Command: rm -rf factDesign.buildbin-libdir && mkdir factDesign.buildbin-libdir && /Users/biocbuild/BBS/utils/build-universal.sh factDesign_1.76.0.tar.gz /Library/Frameworks/R.framework/Resources/bin/R factDesign.buildbin-libdir StartedAt: 2023-10-16 09:23:22 -0400 (Mon, 16 Oct 2023) EndedAt: 2023-10-16 09:23:32 -0400 (Mon, 16 Oct 2023) EllapsedTime: 10.3 seconds RetCode: 0 Status: OK PackageFile: factDesign_1.76.0.tgz PackageFileSize: 231.2 KiB