Package: epivizrData Version: 1.28.0 Command: /Library/Frameworks/R.framework/Resources/bin/R CMD INSTALL epivizrData StartedAt: 2023-10-15 15:35:56 -0400 (Sun, 15 Oct 2023) EndedAt: 2023-10-15 15:38:13 -0400 (Sun, 15 Oct 2023) EllapsedTime: 136.8 seconds RetCode: 0 Status: OK