Package: epivizrData Version: 1.28.0 Command: /Library/Frameworks/R.framework/Resources/bin/R CMD check --install=check:epivizrData.install-out.txt --library=/Library/Frameworks/R.framework/Resources/library --no-vignettes --timings epivizrData_1.28.0.tar.gz StartedAt: 2023-10-16 01:26:42 -0400 (Mon, 16 Oct 2023) EndedAt: 2023-10-16 01:38:14 -0400 (Mon, 16 Oct 2023) EllapsedTime: 691.3 seconds RetCode: 0 Status: OK CheckDir: epivizrData.Rcheck Warnings: 0