Package: epivizr Version: 2.30.0 Command: F:\biocbuild\bbs-3.17-bioc\R\bin\R.exe CMD INSTALL epivizr StartedAt: 2023-10-15 16:25:57 -0400 (Sun, 15 Oct 2023) EndedAt: 2023-10-15 16:26:47 -0400 (Sun, 15 Oct 2023) EllapsedTime: 50.6 seconds RetCode: 0 Status: OK