Package: epialleleR Version: 1.8.1 Command: chmod a+r epialleleR -R && F:\biocbuild\bbs-3.17-bioc\R\bin\R.exe CMD build --keep-empty-dirs --no-resave-data epialleleR StartedAt: 2023-10-15 18:56:59 -0400 (Sun, 15 Oct 2023) EndedAt: 2023-10-15 19:00:35 -0400 (Sun, 15 Oct 2023) EllapsedTime: 215.8 seconds RetCode: 0 Status: OK PackageFile: epialleleR_1.8.1.tar.gz PackageFileSize: 1.771 MiB