Package: epialleleR Version: 1.8.1 Command: rm -rf epialleleR.buildbin-libdir && mkdir epialleleR.buildbin-libdir && /Users/biocbuild/BBS/utils/build-universal.sh epialleleR_1.8.1.tar.gz /Library/Frameworks/R.framework/Resources/bin/R epialleleR.buildbin-libdir StartedAt: 2023-10-16 09:21:02 -0400 (Mon, 16 Oct 2023) EndedAt: 2023-10-16 09:25:45 -0400 (Mon, 16 Oct 2023) EllapsedTime: 282.9 seconds RetCode: 0 Status: OK PackageFile: epialleleR_1.8.1.tgz PackageFileSize: 2.386 MiB