Package: eegc Version: 1.26.0 Command: /Library/Frameworks/R.framework/Resources/bin/R CMD check --install=check:eegc.install-out.txt --library=/Library/Frameworks/R.framework/Resources/library --no-vignettes --timings eegc_1.26.0.tar.gz StartedAt: 2023-10-16 01:18:37 -0400 (Mon, 16 Oct 2023) EndedAt: 2023-10-16 01:37:58 -0400 (Mon, 16 Oct 2023) EllapsedTime: 1160.1 seconds RetCode: 1 Status: ERROR CheckDir: eegc.Rcheck Warnings: NA