Package: eegc Version: 1.26.0 Command: /Library/Frameworks/R.framework/Resources/bin/R CMD build --keep-empty-dirs --no-resave-data eegc StartedAt: 2023-10-15 18:07:46 -0400 (Sun, 15 Oct 2023) EndedAt: 2023-10-15 18:15:12 -0400 (Sun, 15 Oct 2023) EllapsedTime: 446.0 seconds RetCode: 0 Status: OK PackageFile: eegc_1.26.0.tar.gz PackageFileSize: 9.37 MiB