Package: eds Version: 1.2.0 Command: rm -rf eds.buildbin-libdir && mkdir eds.buildbin-libdir && F:\biocbuild\bbs-3.17-bioc\R\bin\R.exe CMD INSTALL --build --library=eds.buildbin-libdir eds_1.2.0.tar.gz StartedAt: 2023-10-16 08:44:45 -0400 (Mon, 16 Oct 2023) EndedAt: 2023-10-16 08:45:03 -0400 (Mon, 16 Oct 2023) EllapsedTime: 18.0 seconds RetCode: 0 Status: OK PackageFile: eds_1.2.0.zip PackageFileSize: 613 KiB