Package: easyRNASeq Version: 2.36.0 Command: /Library/Frameworks/R.framework/Resources/bin/R CMD build --keep-empty-dirs --no-resave-data easyRNASeq StartedAt: 2023-10-15 18:06:16 -0400 (Sun, 15 Oct 2023) EndedAt: 2023-10-15 18:15:07 -0400 (Sun, 15 Oct 2023) EllapsedTime: 531.7 seconds RetCode: 0 Status: OK PackageFile: easyRNASeq_2.36.0.tar.gz PackageFileSize: 69.55 MiB