Package: easier Version: 1.6.3 Command: /home/biocbuild/bbs-3.17-bioc/R/bin/R CMD check --install=check:easier.install-out.txt --library=/home/biocbuild/bbs-3.17-bioc/R/site-library --timings easier_1.6.3.tar.gz StartedAt: 2023-10-15 21:00:44 -0400 (Sun, 15 Oct 2023) EndedAt: 2023-10-15 21:12:45 -0400 (Sun, 15 Oct 2023) EllapsedTime: 721.3 seconds RetCode: 0 Status: OK CheckDir: easier.Rcheck Warnings: 0