Package: drugTargetInteractions Version: 1.8.0 Command: F:\biocbuild\bbs-3.17-bioc\R\bin\R.exe CMD check --no-multiarch --install=check:drugTargetInteractions.install-out.txt --library=F:\biocbuild\bbs-3.17-bioc\R\library --no-vignettes --timings drugTargetInteractions_1.8.0.tar.gz StartedAt: 2023-10-16 01:43:39 -0400 (Mon, 16 Oct 2023) EndedAt: 2023-10-16 01:49:07 -0400 (Mon, 16 Oct 2023) EllapsedTime: 327.6 seconds RetCode: 0 Status: OK CheckDir: drugTargetInteractions.Rcheck Warnings: 0