Package: doseR Version: 1.16.0 Command: /Library/Frameworks/R.framework/Resources/bin/R CMD build --keep-empty-dirs --no-resave-data doseR StartedAt: 2023-10-15 18:03:31 -0400 (Sun, 15 Oct 2023) EndedAt: 2023-10-15 18:04:57 -0400 (Sun, 15 Oct 2023) EllapsedTime: 86.2 seconds RetCode: 0 Status: OK PackageFile: doseR_1.16.0.tar.gz PackageFileSize: 1.309 MiB