Package: doppelgangR Version: 1.28.1 Command: /home/biocbuild/bbs-3.17-bioc/R/bin/R CMD build --keep-empty-dirs --no-resave-data doppelgangR StartedAt: 2023-10-15 16:39:05 -0400 (Sun, 15 Oct 2023) EndedAt: 2023-10-15 16:40:13 -0400 (Sun, 15 Oct 2023) EllapsedTime: 67.9 seconds RetCode: 0 Status: OK PackageFile: doppelgangR_1.28.1.tar.gz PackageFileSize: 426.8 KiB